Package: AWFisher Version: 1.20.0 Command: rm -rf AWFisher.buildbin-libdir && mkdir AWFisher.buildbin-libdir && /Users/biocbuild/BBS/utils/build-universal.sh AWFisher_1.20.0.tar.gz /Library/Frameworks/R.framework/Resources/bin/R AWFisher.buildbin-libdir StartedAt: 2025-02-05 14:51:41 -0500 (Wed, 05 Feb 2025) EndedAt: 2025-02-05 14:51:48 -0500 (Wed, 05 Feb 2025) EllapsedTime: 6.6 seconds RetCode: 0 Status: OK PackageFile: AWFisher_1.20.0.tgz PackageFileSize: 1.437 MiB