Package: AWFisher Version: 1.20.0 Command: /Library/Frameworks/R.framework/Resources/bin/R CMD build --keep-empty-dirs --no-resave-data AWFisher StartedAt: 2025-02-03 17:08:32 -0500 (Mon, 03 Feb 2025) EndedAt: 2025-02-03 17:09:30 -0500 (Mon, 03 Feb 2025) EllapsedTime: 57.5 seconds RetCode: 0 Status: OK PackageFile: AWFisher_1.20.0.tar.gz PackageFileSize: 1.399 MiB