Package: AWFisher Version: 1.20.0 Command: /home/biocbuild/bbs-3.20-bioc/R/bin/R CMD INSTALL AWFisher StartedAt: 2025-02-03 15:16:57 -0500 (Mon, 03 Feb 2025) EndedAt: 2025-02-03 15:17:02 -0500 (Mon, 03 Feb 2025) EllapsedTime: 4.4 seconds RetCode: 0 Status: OK