Package: AWFisher
Version: 1.19.0
Command: chmod a+r AWFisher -R && F:\biocbuild\bbs-3.20-bioc\R\bin\R.exe CMD build --keep-empty-dirs --no-resave-data AWFisher
StartedAt: 2024-06-09 17:17:23 -0400 (Sun, 09 Jun 2024)
EndedAt: 2024-06-09 17:18:10 -0400 (Sun, 09 Jun 2024)
EllapsedTime: 47.5 seconds
RetCode: 0
Status: OK
PackageFile: AWFisher_1.19.0.tar.gz
PackageFileSize: 1.341 <A href="http://en.wikipedia.org/wiki/MiB" target="_blank">MiB</A>