Package: AffyRNADegradation Version: 1.52.0 Command: /Library/Frameworks/R.framework/Resources/bin/R CMD build --keep-empty-dirs --no-resave-data AffyRNADegradation StartedAt: 2025-02-03 18:28:37 -0500 (Mon, 03 Feb 2025) EndedAt: 2025-02-03 18:30:43 -0500 (Mon, 03 Feb 2025) EllapsedTime: 125.8 seconds RetCode: 0 Status: OK PackageFile: AffyRNADegradation_1.52.0.tar.gz PackageFileSize: 365.4 KiB