Package: AffyRNADegradation
Version: 1.51.0
Command: rm -rf AffyRNADegradation.buildbin-libdir && mkdir AffyRNADegradation.buildbin-libdir && C:\Users\biocbuild\bbs-3.20-bioc\R\bin\R.exe CMD INSTALL --build --library=AffyRNADegradation.buildbin-libdir AffyRNADegradation_1.51.0.tar.gz
StartedAt: 2024-07-16 05:52:20 -0400 (Tue, 16 Jul 2024)
EndedAt: 2024-07-16 05:52:36 -0400 (Tue, 16 Jul 2024)
EllapsedTime: 16.5 seconds
RetCode: 0
Status: OK
PackageFile: AffyRNADegradation_1.51.0.zip
PackageFileSize: 315 <A href="http://en.wikipedia.org/wiki/KiB" target="_blank">KiB</A>