Package: AffyRNADegradation Version: 1.52.0 Command: chmod a+r AffyRNADegradation -R && F:\biocbuild\bbs-3.20-bioc\R\bin\R.exe CMD build --keep-empty-dirs --no-resave-data AffyRNADegradation StartedAt: 2025-02-03 17:25:42 -0500 (Mon, 03 Feb 2025) EndedAt: 2025-02-03 17:27:54 -0500 (Mon, 03 Feb 2025) EllapsedTime: 132.1 seconds RetCode: 0 Status: OK PackageFile: AffyRNADegradation_1.52.0.tar.gz PackageFileSize: 274.3 KiB