Package: AffyRNADegradation Version: 1.52.0 Command: /home/biocbuild/R/R/bin/R CMD INSTALL AffyRNADegradation StartedAt: 2025-02-03 20:24:28 -0000 (Mon, 03 Feb 2025) EndedAt: 2025-02-03 20:24:53 -0000 (Mon, 03 Feb 2025) EllapsedTime: 24.6 seconds RetCode: 0 Status: OK