Package: AgiMicroRna Version: 2.56.0 Command: /home/biocbuild/R/R/bin/R CMD build --keep-empty-dirs --no-resave-data AgiMicroRna StartedAt: 2025-02-03 21:33:10 -0000 (Mon, 03 Feb 2025) EndedAt: 2025-02-03 21:35:28 -0000 (Mon, 03 Feb 2025) EllapsedTime: 138.1 seconds RetCode: 0 Status: OK PackageFile: AgiMicroRna_2.56.0.tar.gz PackageFileSize: 3.061 MiB