Package: AllelicImbalance Version: 1.44.0 Command: /Library/Frameworks/R.framework/Resources/bin/R CMD build --keep-empty-dirs --no-resave-data AllelicImbalance StartedAt: 2025-02-03 17:01:10 -0500 (Mon, 03 Feb 2025) EndedAt: 2025-02-03 17:06:47 -0500 (Mon, 03 Feb 2025) EllapsedTime: 337.2 seconds RetCode: 0 Status: OK PackageFile: AllelicImbalance_1.44.0.tar.gz PackageFileSize: 773 KiB