Package: AllelicImbalance Version: 1.44.0 Command: /Library/Frameworks/R.framework/Resources/bin/R CMD check --install=check:AllelicImbalance.install-out.txt --library=/Library/Frameworks/R.framework/Resources/library --no-vignettes --timings AllelicImbalance_1.44.0.tar.gz StartedAt: 2025-02-03 23:35:55 -0500 (Mon, 03 Feb 2025) EndedAt: 2025-02-03 23:52:54 -0500 (Mon, 03 Feb 2025) EllapsedTime: 1018.5 seconds RetCode: 0 Status: OK CheckDir: AllelicImbalance.Rcheck Warnings: 0