Package: AllelicImbalance Version: 1.44.0 Command: /Library/Frameworks/R.framework/Resources/bin/R CMD INSTALL AllelicImbalance StartedAt: 2025-02-03 16:10:11 -0500 (Mon, 03 Feb 2025) EndedAt: 2025-02-03 16:12:07 -0500 (Mon, 03 Feb 2025) EllapsedTime: 116.4 seconds RetCode: 0 Status: OK