Package: AllelicImbalance Version: 1.44.0 Command: rm -rf AllelicImbalance.buildbin-libdir && mkdir AllelicImbalance.buildbin-libdir && F:\biocbuild\bbs-3.20-bioc\R\bin\R.exe CMD INSTALL --build --library=AllelicImbalance.buildbin-libdir AllelicImbalance_1.44.0.tar.gz StartedAt: 2025-02-04 07:57:16 -0500 (Tue, 04 Feb 2025) EndedAt: 2025-02-04 08:02:16 -0500 (Tue, 04 Feb 2025) EllapsedTime: 300.2 seconds RetCode: 0 Status: OK PackageFile: AllelicImbalance_1.44.0.zip PackageFileSize: 1.234 MiB