Package: AllelicImbalance Version: 1.44.0 Command: chmod a+r AllelicImbalance -R && F:\biocbuild\bbs-3.20-bioc\R\bin\R.exe CMD build --keep-empty-dirs --no-resave-data AllelicImbalance StartedAt: 2025-02-03 17:27:32 -0500 (Mon, 03 Feb 2025) EndedAt: 2025-02-03 17:34:07 -0500 (Mon, 03 Feb 2025) EllapsedTime: 395.5 seconds RetCode: 0 Status: OK PackageFile: AllelicImbalance_1.44.0.tar.gz PackageFileSize: 766.7 KiB