Package: AllelicImbalance Version: 1.44.0 Command: F:\biocbuild\bbs-3.20-bioc\R\bin\R.exe CMD check --no-multiarch --install=check:AllelicImbalance.install-out.txt --library=F:\biocbuild\bbs-3.20-bioc\R\library --no-vignettes --timings AllelicImbalance_1.44.0.tar.gz StartedAt: 2025-02-03 23:04:59 -0500 (Mon, 03 Feb 2025) EndedAt: 2025-02-03 23:14:33 -0500 (Mon, 03 Feb 2025) EllapsedTime: 574.2 seconds RetCode: 0 Status: OK CheckDir: AllelicImbalance.Rcheck Warnings: 0