Package: AllelicImbalance Version: 1.44.0 Command: /home/biocbuild/R/R/bin/R CMD build --keep-empty-dirs --no-resave-data AllelicImbalance StartedAt: 2025-02-03 21:34:33 -0000 (Mon, 03 Feb 2025) EndedAt: 2025-02-03 21:37:23 -0000 (Mon, 03 Feb 2025) EllapsedTime: 170.1 seconds RetCode: 0 Status: OK PackageFile: AllelicImbalance_1.44.0.tar.gz PackageFileSize: 767.2 KiB