Package: AlpsNMR Version: 4.8.0 Command: /Library/Frameworks/R.framework/Resources/bin/R CMD build --keep-empty-dirs --no-resave-data AlpsNMR StartedAt: 2024-11-19 15:54:37 -0500 (Tue, 19 Nov 2024) EndedAt: 2024-11-19 15:57:21 -0500 (Tue, 19 Nov 2024) EllapsedTime: 163.9 seconds RetCode: 0 Status: OK PackageFile: AlpsNMR_4.8.0.tar.gz PackageFileSize: 3.699 MiB