Package: AnVIL Version: 1.18.4 Maintainer: Marcel Ramos MaintainerEmail: marcel.ramos at sph.cuny.edu git_url: https://git.bioconductor.org/packages/AnVIL git_branch: RELEASE_3_20 git_last_commit: d566998 git_last_commit_date: 2025-01-24 09:59:41 -0500 (Fri, 24 Jan 2025)