Package: AnVIL Version: 1.18.4 Command: rm -rf AnVIL.buildbin-libdir && mkdir AnVIL.buildbin-libdir && /Users/biocbuild/BBS/utils/build-universal.sh AnVIL_1.18.4.tar.gz /Library/Frameworks/R.framework/Resources/bin/R AnVIL.buildbin-libdir StartedAt: 2025-02-01 13:53:34 -0500 (Sat, 01 Feb 2025) EndedAt: 2025-02-01 13:53:43 -0500 (Sat, 01 Feb 2025) EllapsedTime: 9.1 seconds RetCode: 0 Status: OK PackageFile: AnVIL_1.18.4.tgz PackageFileSize: 1.17 MiB