Package: AnVIL Version: 1.18.4 Command: /Library/Frameworks/R.framework/Resources/bin/R CMD build --keep-empty-dirs --no-resave-data AnVIL StartedAt: 2025-01-30 18:53:14 -0500 (Thu, 30 Jan 2025) EndedAt: 2025-01-30 18:53:34 -0500 (Thu, 30 Jan 2025) EllapsedTime: 19.4 seconds RetCode: 0 Status: OK PackageFile: AnVIL_1.18.4.tar.gz PackageFileSize: 1.195 MiB