Package: AnVIL Version: 1.18.4 Command: /home/biocbuild/bbs-3.20-bioc/R/bin/R CMD check --install=check:AnVIL.install-out.txt --library=/home/biocbuild/bbs-3.20-bioc/R/site-library --timings AnVIL_1.18.4.tar.gz StartedAt: 2025-01-30 19:54:14 -0500 (Thu, 30 Jan 2025) EndedAt: 2025-01-30 19:55:24 -0500 (Thu, 30 Jan 2025) EllapsedTime: 69.2 seconds RetCode: 1 Status: ERROR CheckDir: AnVIL.Rcheck Warnings: NA