Package: AnVIL Version: 1.18.4 Command: chmod a+r AnVIL -R && F:\biocbuild\bbs-3.20-bioc\R\bin\R.exe CMD build --keep-empty-dirs --no-resave-data AnVIL StartedAt: 2025-01-30 17:18:34 -0500 (Thu, 30 Jan 2025) EndedAt: 2025-01-30 17:19:22 -0500 (Thu, 30 Jan 2025) EllapsedTime: 48.0 seconds RetCode: 0 Status: OK PackageFile: AnVIL_1.18.4.tar.gz PackageFileSize: 1.195 MiB