Package: AnVIL Version: 1.18.4 Command: F:\biocbuild\bbs-3.20-bioc\R\bin\R.exe CMD check --no-multiarch --install=check:AnVIL.install-out.txt --library=F:\biocbuild\bbs-3.20-bioc\R\library --no-vignettes --timings AnVIL_1.18.4.tar.gz StartedAt: 2025-01-30 23:23:39 -0500 (Thu, 30 Jan 2025) EndedAt: 2025-01-30 23:24:43 -0500 (Thu, 30 Jan 2025) EllapsedTime: 64.3 seconds RetCode: 0 Status: OK CheckDir: AnVIL.Rcheck Warnings: 0