Package: AnVIL Version: 1.18.4 Command: F:\biocbuild\bbs-3.20-bioc\R\bin\R.exe CMD INSTALL AnVIL StartedAt: 2025-01-30 15:49:17 -0500 (Thu, 30 Jan 2025) EndedAt: 2025-01-30 15:50:10 -0500 (Thu, 30 Jan 2025) EllapsedTime: 53.8 seconds RetCode: 0 Status: OK