Package: AnVIL Version: 1.18.4 Command: /home/biocbuild/R/R/bin/R CMD build --keep-empty-dirs --no-resave-data AnVIL StartedAt: 2025-01-30 21:32:10 -0000 (Thu, 30 Jan 2025) EndedAt: 2025-01-30 21:32:26 -0000 (Thu, 30 Jan 2025) EllapsedTime: 16.0 seconds RetCode: 0 Status: OK PackageFile: AnVIL_1.18.4.tar.gz PackageFileSize: 1.267 MiB