Package: AnVILAz Version: 1.0.0 Command: rm -rf AnVILAz.buildbin-libdir && mkdir AnVILAz.buildbin-libdir && /Users/biocbuild/BBS/utils/build-universal.sh AnVILAz_1.0.0.tar.gz /Library/Frameworks/R.framework/Resources/bin/R AnVILAz.buildbin-libdir StartedAt: 2025-02-05 14:48:31 -0500 (Wed, 05 Feb 2025) EndedAt: 2025-02-05 14:48:37 -0500 (Wed, 05 Feb 2025) EllapsedTime: 5.7 seconds RetCode: 0 Status: OK PackageFile: AnVILAz_1.0.0.tgz PackageFileSize: 827.5 KiB