Package: AnVILAz Version: 1.0.0 Command: rm -rf AnVILAz.buildbin-libdir && mkdir AnVILAz.buildbin-libdir && /Users/biocbuild/BBS/utils/build-universal.sh AnVILAz_1.0.0.tar.gz /Library/Frameworks/R.framework/Resources/bin/R AnVILAz.buildbin-libdir StartedAt: 2025-02-04 12:27:56 -0500 (Tue, 04 Feb 2025) EndedAt: 2025-02-04 12:28:07 -0500 (Tue, 04 Feb 2025) EllapsedTime: 10.6 seconds RetCode: 0 Status: OK PackageFile: AnVILAz_1.0.0.tgz PackageFileSize: 827.8 KiB