Package: AnVILAz Version: 1.0.0 Command: /home/biocbuild/bbs-3.20-bioc/R/bin/R CMD build --keep-empty-dirs --no-resave-data --md5 AnVILAz StartedAt: 2025-02-03 16:20:39 -0500 (Mon, 03 Feb 2025) EndedAt: 2025-02-03 16:20:49 -0500 (Mon, 03 Feb 2025) EllapsedTime: 9.0 seconds RetCode: 0 Status: OK PackageFile: AnVILAz_1.0.0.tar.gz PackageFileSize: 828 KiB