Package: AnVILAz Version: 1.0.0 Command: chmod a+r AnVILAz -R && F:\biocbuild\bbs-3.20-bioc\R\bin\R.exe CMD build --keep-empty-dirs --no-resave-data AnVILAz StartedAt: 2025-02-17 17:17:12 -0500 (Mon, 17 Feb 2025) EndedAt: 2025-02-17 17:17:44 -0500 (Mon, 17 Feb 2025) EllapsedTime: 32.0 seconds RetCode: 0 Status: OK PackageFile: AnVILAz_1.0.0.tar.gz PackageFileSize: 826.4 <A href="http://en.wikipedia.org/wiki/KiB" target="_blank">KiB</A>