Package: AnVILAz Version: 1.0.0 Command: /home/biocbuild/R/R/bin/R CMD build --keep-empty-dirs --no-resave-data AnVILAz StartedAt: 2025-02-03 21:37:00 -0000 (Mon, 03 Feb 2025) EndedAt: 2025-02-03 21:37:10 -0000 (Mon, 03 Feb 2025) EllapsedTime: 10.0 seconds RetCode: 0 Status: OK PackageFile: AnVILAz_1.0.0.tar.gz PackageFileSize: 959.6 KiB