Package: AnVILBilling Version: 1.16.0 Command: rm -rf AnVILBilling.buildbin-libdir && mkdir AnVILBilling.buildbin-libdir && F:\biocbuild\bbs-3.20-bioc\R\bin\R.exe CMD INSTALL --build --library=AnVILBilling.buildbin-libdir AnVILBilling_1.16.0.tar.gz StartedAt: 2025-01-31 08:09:08 -0500 (Fri, 31 Jan 2025) EndedAt: 2025-01-31 08:09:46 -0500 (Fri, 31 Jan 2025) EllapsedTime: 38.6 seconds RetCode: 0 Status: OK PackageFile: AnVILBilling_1.16.0.zip PackageFileSize: 744.2 KiB