Package: AnVILBilling Version: 1.16.0 Command: /home/biocbuild/R/R/bin/R CMD check --install=check:AnVILBilling.install-out.txt --library=/home/biocbuild/R/R/site-library --no-vignettes --timings AnVILBilling_1.16.0.tar.gz StartedAt: 2025-02-04 04:22:39 -0000 (Tue, 04 Feb 2025) EndedAt: 2025-02-04 04:24:10 -0000 (Tue, 04 Feb 2025) EllapsedTime: 91.3 seconds RetCode: 0 Status: OK CheckDir: AnVILBilling.Rcheck Warnings: 0