Package: AnVILGCP Version: 1.0.0 Command: rm -rf AnVILGCP.buildbin-libdir && mkdir AnVILGCP.buildbin-libdir && /Users/biocbuild/BBS/utils/build-universal.sh AnVILGCP_1.0.0.tar.gz /Library/Frameworks/R.framework/Resources/bin/R AnVILGCP.buildbin-libdir StartedAt: 2025-02-12 14:03:01 -0500 (Wed, 12 Feb 2025) EndedAt: 2025-02-12 14:03:08 -0500 (Wed, 12 Feb 2025) EllapsedTime: 6.8 seconds RetCode: 0 Status: OK PackageFile: AnVILGCP_1.0.0.tgz PackageFileSize: 474.8 KiB