Package: AnVILGCP Version: 1.0.0 Command: /Library/Frameworks/R.framework/Resources/bin/R CMD INSTALL AnVILGCP StartedAt: 2025-02-10 15:19:16 -0500 (Mon, 10 Feb 2025) EndedAt: 2025-02-10 15:19:22 -0500 (Mon, 10 Feb 2025) EllapsedTime: 5.8 seconds RetCode: 0 Status: OK