Package: AnVILGCP Version: 1.0.0 Command: /Library/Frameworks/R.framework/Resources/bin/R CMD build --keep-empty-dirs --no-resave-data AnVILGCP StartedAt: 2025-02-03 17:04:15 -0500 (Mon, 03 Feb 2025) EndedAt: 2025-02-03 17:04:44 -0500 (Mon, 03 Feb 2025) EllapsedTime: 28.2 seconds RetCode: 0 Status: OK PackageFile: AnVILGCP_1.0.0.tar.gz PackageFileSize: 420.2 KiB