Package: AnVILGCP Version: 1.0.0 Command: /Library/Frameworks/R.framework/Resources/bin/R CMD INSTALL AnVILGCP StartedAt: 2025-02-03 15:19:49 -0500 (Mon, 03 Feb 2025) EndedAt: 2025-02-03 15:20:18 -0500 (Mon, 03 Feb 2025) EllapsedTime: 29.4 seconds RetCode: 0 Status: OK