Package: AnVILGCP Version: 1.0.0 Command: chmod a+r AnVILGCP -R && F:\biocbuild\bbs-3.20-bioc\R\bin\R.exe CMD build --keep-empty-dirs --no-resave-data AnVILGCP StartedAt: 2025-02-03 17:30:41 -0500 (Mon, 03 Feb 2025) EndedAt: 2025-02-03 17:31:16 -0500 (Mon, 03 Feb 2025) EllapsedTime: 34.5 seconds RetCode: 0 Status: OK PackageFile: AnVILGCP_1.0.0.tar.gz PackageFileSize: 420.5 KiB