Package: AnVILPublish Version: 1.16.0 Command: rm -rf AnVILPublish.buildbin-libdir && mkdir AnVILPublish.buildbin-libdir && /Users/biocbuild/BBS/utils/build-universal.sh AnVILPublish_1.16.0.tar.gz /Library/Frameworks/R.framework/Resources/bin/R AnVILPublish.buildbin-libdir StartedAt: 2025-02-05 14:48:39 -0500 (Wed, 05 Feb 2025) EndedAt: 2025-02-05 14:48:47 -0500 (Wed, 05 Feb 2025) EllapsedTime: 7.9 seconds RetCode: 0 Status: OK PackageFile: AnVILPublish_1.16.0.tgz PackageFileSize: 258.8 KiB