Package: AnVILPublish Version: 1.16.0 Command: /Library/Frameworks/R.framework/Resources/bin/R CMD build --keep-empty-dirs --no-resave-data AnVILPublish StartedAt: 2025-02-03 18:43:49 -0500 (Mon, 03 Feb 2025) EndedAt: 2025-02-03 18:44:02 -0500 (Mon, 03 Feb 2025) EllapsedTime: 12.6 seconds RetCode: 0 Status: OK PackageFile: AnVILPublish_1.16.0.tar.gz PackageFileSize: 236 KiB