Package: AnVILPublish
Version: 1.16.0
Command: /home/biocbuild/R/R/bin/R CMD check --install=check:AnVILPublish.install-out.txt --library=/home/biocbuild/R/R/site-library --no-vignettes --timings AnVILPublish_1.16.0.tar.gz
StartedAt: 2024-11-20 05:09:57 -0000 (Wed, 20 Nov 2024)
EndedAt: 2024-11-20 05:10:42 -0000 (Wed, 20 Nov 2024)
EllapsedTime: 45.1 seconds
RetCode: 0
Status: OK
CheckDir: AnVILPublish.Rcheck
Warnings: 0