Package: AnVILPublish Version: 1.16.0 Command: /Library/Frameworks/R.framework/Resources/bin/R CMD check --install=check:AnVILPublish.install-out.txt --library=/Library/Frameworks/R.framework/Resources/library --no-vignettes --timings AnVILPublish_1.16.0.tar.gz StartedAt: 2025-02-03 23:44:51 -0500 (Mon, 03 Feb 2025) EndedAt: 2025-02-03 23:46:31 -0500 (Mon, 03 Feb 2025) EllapsedTime: 100.0 seconds RetCode: 0 Status: OK CheckDir: AnVILPublish.Rcheck Warnings: 0