Package: AnVILPublish Version: 1.16.0 Command: /home/biocbuild/R/R/bin/R CMD build --keep-empty-dirs --no-resave-data AnVILPublish StartedAt: 2025-02-03 21:37:18 -0000 (Mon, 03 Feb 2025) EndedAt: 2025-02-03 21:37:29 -0000 (Mon, 03 Feb 2025) EllapsedTime: 11.0 seconds RetCode: 0 Status: OK PackageFile: AnVILPublish_1.16.0.tar.gz PackageFileSize: 262.1 KiB