Package: AnVILWorkflow Version: 1.6.0 Command: /Library/Frameworks/R.framework/Resources/bin/R CMD build --keep-empty-dirs --no-resave-data AnVILWorkflow StartedAt: 2025-02-03 17:04:39 -0500 (Mon, 03 Feb 2025) EndedAt: 2025-02-03 17:05:01 -0500 (Mon, 03 Feb 2025) EllapsedTime: 21.2 seconds RetCode: 0 Status: OK PackageFile: AnVILWorkflow_1.6.0.tar.gz PackageFileSize: 1.116 MiB