Package: AnVILWorkflow Version: 1.6.0 Command: /Library/Frameworks/R.framework/Resources/bin/R CMD check --install=check:AnVILWorkflow.install-out.txt --library=/Library/Frameworks/R.framework/Resources/library --no-vignettes --timings AnVILWorkflow_1.6.0.tar.gz StartedAt: 2025-02-03 23:44:54 -0500 (Mon, 03 Feb 2025) EndedAt: 2025-02-03 23:46:43 -0500 (Mon, 03 Feb 2025) EllapsedTime: 108.5 seconds RetCode: 0 Status: WARNINGS CheckDir: AnVILWorkflow.Rcheck Warnings: 1