Package: AnVILWorkflow Version: 1.6.0 Command: chmod a+r AnVILWorkflow -R && F:\biocbuild\bbs-3.20-bioc\R\bin\R.exe CMD build --keep-empty-dirs --no-resave-data AnVILWorkflow StartedAt: 2025-02-03 17:30:56 -0500 (Mon, 03 Feb 2025) EndedAt: 2025-02-03 17:31:20 -0500 (Mon, 03 Feb 2025) EllapsedTime: 24.4 seconds RetCode: 0 Status: OK PackageFile: AnVILWorkflow_1.6.0.tar.gz PackageFileSize: 1.116 MiB