Package: AneuFinder Version: 1.34.0 Command: /home/biocbuild/bbs-3.20-bioc/R/bin/R CMD build --keep-empty-dirs --no-resave-data --md5 AneuFinder StartedAt: 2025-02-03 16:19:17 -0500 (Mon, 03 Feb 2025) EndedAt: 2025-02-03 16:22:45 -0500 (Mon, 03 Feb 2025) EllapsedTime: 207.3 seconds RetCode: 0 Status: OK PackageFile: AneuFinder_1.34.0.tar.gz PackageFileSize: 2.025 MiB