Package: AneuFinder Version: 1.34.0 Command: /home/biocbuild/bbs-3.20-bioc/R/bin/R CMD INSTALL AneuFinder StartedAt: 2025-02-03 15:29:22 -0500 (Mon, 03 Feb 2025) EndedAt: 2025-02-03 15:30:00 -0500 (Mon, 03 Feb 2025) EllapsedTime: 37.8 seconds RetCode: 0 Status: OK