Package: AneuFinder Version: 1.34.0 Command: /home/biocbuild/R/R/bin/R CMD check --install=check:AneuFinder.install-out.txt --library=/home/biocbuild/R/R/site-library --no-vignettes --timings AneuFinder_1.34.0.tar.gz StartedAt: 2025-02-04 04:18:17 -0000 (Tue, 04 Feb 2025) EndedAt: 2025-02-04 04:35:32 -0000 (Tue, 04 Feb 2025) EllapsedTime: 1034.3 seconds RetCode: 0 Status: OK CheckDir: AneuFinder.Rcheck Warnings: 0