Package: AneuFinder Version: 1.34.0 Command: /home/biocbuild/R/R/bin/R CMD INSTALL AneuFinder StartedAt: 2025-02-03 20:38:16 -0000 (Mon, 03 Feb 2025) EndedAt: 2025-02-03 20:39:08 -0000 (Mon, 03 Feb 2025) EllapsedTime: 51.4 seconds RetCode: 0 Status: OK