Package: AnnotationDbi Version: 1.68.0 Command: /Library/Frameworks/R.framework/Resources/bin/R CMD build --keep-empty-dirs --no-resave-data AnnotationDbi StartedAt: 2025-02-03 18:38:53 -0500 (Mon, 03 Feb 2025) EndedAt: 2025-02-03 18:40:15 -0500 (Mon, 03 Feb 2025) EllapsedTime: 81.9 seconds RetCode: 0 Status: OK PackageFile: AnnotationDbi_1.68.0.tar.gz PackageFileSize: 4.171 MiB